Workbook

Sheet 1. Ext Debt Payments
A1: Country | B1: Income category | C1: SIDS | D1: 1980 | E1: =D1+1 -> 1981 | F1: =E1+1 -> 1982 | G1: =F1+1 -> 1983 | H1: =G1+1 -> 1984 | I1: =H1+1 -> 1985 | J1: =I1+1 -> 1986 | K1: =J1+1 -> 1987 | L1: =K1+1 -> 1988 | ... BG1: =BF1+1 -> 2035 | BH1: Average 2019-2025 | BI1: Average 2020-2025 | BJ1: Average 2024-2027 | BK1: Average 2025-2035 | BL1: Average 2026-2030
A3: Mean | D3: =AVERAGE(D6:D226) -> 0.14109968 | E3: =AVERAGE(E6:E226) -> 0.14272962 | F3: =AVERAGE(F6:F226) -> 0.16356523 | G3: =AVERAGE(G6:G226) -> 0.16520708 | H3: =AVERAGE(H6:H226) -> 0.21450768 | I3: =AVERAGE(I6:I226) -> 0.20326789 | J3: =AVERAGE(J6:J226) -> 0.22723228 | K3: =AVERAGE(K6:K226) -> 0.21630917 | ... BB3: =AVERAGE(BB6:BB226) -> 0.11766188
A4: Median | D4: =MEDIAN(D6:D258) -> 0.1161094 | E4: =MEDIAN(E6:E258) -> 0.097210093 | F4: =MEDIAN(F6:F258) -> 0.12471949 | G4: =MEDIAN(G6:G258) -> 0.1406509 | H4: =MEDIAN(H6:H258) -> 0.15148953 | I4: =MEDIAN(I6:I258) -> 0.18140059 | J4: =MEDIAN(J6:J258) -> 0.17920166 | K4: =MEDIAN(K6:K258) -> 0.18810381 | ... BB4: =MEDIAN(BB6:BB258) -> 0.09375
A6: Afghanistan | B6: Low | AD6: ='2. WB and IMF ext debt pay data'!AC4 -> 0.0083034795 | AE6: ='2. WB and IMF ext debt pay data'!AD4 -> 0.0037888008 | AF6: ='2. WB and IMF ext debt pay data'!AE4 -> 0.0045780359 | AG6: ='2. WB and IMF ext debt pay data'!AF4 -> 0.0045898837 | AH6: ='2. WB and IMF ext debt pay data'!AG4 -> 0.0028395629 | AI6: ='2. WB and IMF ext debt pay data'!AH4 -> 0.0026311922 | AJ6: ='2. WB and IMF ext debt pay data'!AI4 -> 0.0026853328 | AK6: ='2. WB and IMF ext debt pay data'!AJ4 -> 0.005006629 | ... AV6: ='2. WB and IMF ext debt pay data'!AU4 -> 0.019202428 | BI6: =AVERAGE(AR6:AW6) -> 0.012669665 | BJ6: =AVERAGE(AV6:AY6) -> 0.019202428
A7: Albania | B7: Upper middle | O7: ='2. WB and IMF ext debt pay data'!N7 -> 0.014870649 | P7: ='2. WB and IMF ext debt pay data'!O7 -> 0.013317628 | Q7: ='2. WB and IMF ext debt pay data'!P7 -> 0.0306895 | R7: ='2. WB and IMF ext debt pay data'!Q7 -> 0.043017502 | S7: ='2. WB and IMF ext debt pay data'!R7 -> 0.014298177 | T7: ='2. WB and IMF ext debt pay data'!S7 -> 0.034590249 | U7: ='2. WB and IMF ext debt pay data'!T7 -> 0.052971176 | V7: ='2. WB and IMF ext debt pay data'!U7 -> 0.0272251 | ... BB7: ='2. WB and IMF ext debt pay data'!BA7 -> 0.09375 | BH7: =AVERAGE(AQ7:AW7) -> 0.11386497 | BI7: =AVERAGE(AR7:AW7) -> 0.11741212 | BJ7: =AVERAGE(AV7:AY7) -> 0.10994424
A8: Algeria | B8: Upper middle | D8: ='2. WB and IMF ext debt pay data'!C10 -> 0.31978985 | E8: ='2. WB and IMF ext debt pay data'!D10 -> 0.30094233 | F8: ='2. WB and IMF ext debt pay data'!E10 -> 0.33375674 | G8: ='2. WB and IMF ext debt pay data'!F10 -> 0.32936452 | H8: ='2. WB and IMF ext debt pay data'!G10 -> 0.32965716 | I8: ='2. WB and IMF ext debt pay data'!H10 -> 0.27210674 | J8: ='2. WB and IMF ext debt pay data'!I10 -> 0.28450395 | K8: ='2. WB and IMF ext debt pay data'!J10 -> 0.29062167 | ... BB8: ='2. WB and IMF ext debt pay data'!BA10 -> 0.0010171173 | BH8: =AVERAGE(AQ8:AW8) -> 0.0026809243 | BI8: =AVERAGE(AR8:AW8) -> 0.0027298741 | BJ8: =AVERAGE(AV8:AY8) -> 0.0019613902
A9: Angola | B9: Lower middle | M9: ='2. WB and IMF ext debt pay data'!L13 -> 0.053565998 | N9: ='2. WB and IMF ext debt pay data'!M13 -> 0.05703397 | O9: ='2. WB and IMF ext debt pay data'!N13 -> 0.069804105 | P9: ='2. WB and IMF ext debt pay data'!O13 -> 0.051607501 | Q9: ='2. WB and IMF ext debt pay data'!P13 -> 0.032920271 | R9: ='2. WB and IMF ext debt pay data'!Q13 -> 0.10421847 | S9: ='2. WB and IMF ext debt pay data'!R13 -> 0.16970729 | T9: ='2. WB and IMF ext debt pay data'!S13 -> 0.26102284 | ... BB9: ='2. WB and IMF ext debt pay data'!BA13 -> 0.51851852 | BH9: =AVERAGE(AQ9:AW9) -> 0.49867964 | BI9: =AVERAGE(AR9:AW9) -> 0.48821755 | BJ9: =AVERAGE(AV9:AY9) -> 0.50147321
A10: Antigua and Barbuda | B10: High | C10: SIDS | AT10: ='2. WB and IMF ext debt pay data'!AS16 -> 0.10555556 | AU10: ='2. WB and IMF ext debt pay data'!AT16 -> 0.1257485 | AV10: ='2. WB and IMF ext debt pay data'!AU16 -> 0.14155251 | AW10: ='2. WB and IMF ext debt pay data'!AV16 -> 0.071428571 | AX10: ='2. WB and IMF ext debt pay data'!AW16 -> 0.096330275 | AY10: ='2. WB and IMF ext debt pay data'!AX16 -> 0.11428571 | AZ10: ='2. WB and IMF ext debt pay data'!AY16 -> 0.12857143 | BA10: ='2. WB and IMF ext debt pay data'!AZ16 -> 0.12980769 | BB10: ='2. WB and IMF ext debt pay data'!BA16 -> 0.13461538 | BH10: =AVERAGE(AQ10:AW10) -> 0.11107129 | BI10: =AVERAGE(AR10:AW10) -> 0.11107129 | BJ10: =AVERAGE(AV10:AY10) -> 0.10589927
A11: Argentina | B11: Upper middle | D11: ='2. WB and IMF ext debt pay data'!C19 -> 0.042093334 | E11: ='2. WB and IMF ext debt pay data'!D19 -> 0.054535501 | F11: ='2. WB and IMF ext debt pay data'!E19 -> 0.11827983 | G11: ='2. WB and IMF ext debt pay data'!F19 -> 0.10304012 | H11: ='2. WB and IMF ext debt pay data'!G19 -> 0.13751131 | I11: ='2. WB and IMF ext debt pay data'!H19 -> 0.21869061 | J11: ='2. WB and IMF ext debt pay data'!I19 -> 0.23658921 | K11: ='2. WB and IMF ext debt pay data'!J19 -> 0.21503756 | ... BB11: ='2. WB and IMF ext debt pay data'!BA19 -> 0.36585366 | BH11: =AVERAGE(AQ11:AW11) -> 0.1284185 | BI11: =AVERAGE(AR11:AW11) -> 0.11722121 | BJ11: =AVERAGE(AV11:AY11) -> 0.21388694 | BL11: =AVERAGE(AX11:BB11) -> 0.33215715
A12: Armenia | B12: Upper middle | Q12: ='2. WB and IMF ext debt pay data'!P22 -> 0.00895304 | R12: ='2. WB and IMF ext debt pay data'!Q22 -> 0.026201122 | S12: ='2. WB and IMF ext debt pay data'!R22 -> 0.049122409 | T12: ='2. WB and IMF ext debt pay data'!S22 -> 0.17325247 | U12: ='2. WB and IMF ext debt pay data'!T22 -> 0.090340761 | V12: ='2. WB and IMF ext debt pay data'!U22 -> 0.18366441 | W12: ='2. WB and IMF ext debt pay data'!V22 -> 0.17013006 | X12: ='2. WB and IMF ext debt pay data'!W22 -> 0.1456302 | ... BB12: ='2. WB and IMF ext debt pay data'!BA22 -> 0.097276265 | BH12: =AVERAGE(AQ12:AW12) -> 0.1539904 | BI12: =AVERAGE(AR12:AW12) -> 0.13696757 | BJ12: =AVERAGE(AV12:AY12) -> 0.1115557
A13: Aruba | B13: High | AV13: ='2. WB and IMF ext debt pay data'!AU23 -> 0.29795918 | AW13: ='2. WB and IMF ext debt pay data'!AV23 -> 0.25531915 | AX13: ='2. WB and IMF ext debt pay data'!AW23 -> 0.28947368 | AY13: ='2. WB and IMF ext debt pay data'!AX23 -> 0.25 | AZ13: ='2. WB and IMF ext debt pay data'!AY23 -> 0.3245614 | BA13: ='2. WB and IMF ext debt pay data'!AZ23 -> 0.39823009 | BB13: ='2. WB and IMF ext debt pay data'!BA23 -> 0.21875 | BH13: =AVERAGE(AQ13:AW13) -> 0.27663917 | BI13: =AVERAGE(AR13:AW13) -> 0.27663917 | BJ13: =AVERAGE(AV13:AY13) -> 0.273188
A14: Azerbaijan | B14: Upper middle | S14: ='2. WB and IMF ext debt pay data'!R28 -> 0.023152865 | T14: ='2. WB and IMF ext debt pay data'!S28 -> 0.01657231 | U14: ='2. WB and IMF ext debt pay data'!T28 -> 0.10194784 | V14: ='2. WB and IMF ext debt pay data'!U28 -> 0.024438234 | W14: ='2. WB and IMF ext debt pay data'!V28 -> 0.07135144 | X14: ='2. WB and IMF ext debt pay data'!W28 -> 0.12443963 | Y14: ='2. WB and IMF ext debt pay data'!X28 -> 0.057196893 | Z14: ='2. WB and IMF ext debt pay data'!Y28 -> 0.046275423 | ... BB14: ='2. WB and IMF ext debt pay data'!BA28 -> 0.053268765 | BH14: =AVERAGE(AQ14:AW14) -> 0.072630449 | BI14: =AVERAGE(AR14:AW14) -> 0.071912937 | BJ14: =AVERAGE(AV14:AY14) -> 0.045164399
A15: Bahamas, The | B15: High | C15: SIDS | AT15: ='2. WB and IMF ext debt pay data'!AS31 -> 0.2985782 | AU15: ='2. WB and IMF ext debt pay data'!AT31 -> 0.30275229 | AV15: ='2. WB and IMF ext debt pay data'!AU31 -> 0.38862559 | AW15: ='2. WB and IMF ext debt pay data'!AV31 -> 0.54545455 | AX15: ='2. WB and IMF ext debt pay data'!AW31 -> 0.28828829 | AY15: ='2. WB and IMF ext debt pay data'!AX31 -> 0.29279279 | AZ15: ='2. WB and IMF ext debt pay data'!AY31 -> 0.29279279 | BA15: ='2. WB and IMF ext debt pay data'!AZ31 -> 0.28378378 | BB15: ='2. WB and IMF ext debt pay data'!BA31 -> 0.28828829 | BH15: =AVERAGE(AQ15:AW15) -> 0.38385266 | BI15: =AVERAGE(AR15:AW15) -> 0.38385266 | BJ15: =AVERAGE(AV15:AY15) -> 0.3787903
A16: Bangladesh | B16: Lower middle | D16: ='2. WB and IMF ext debt pay data'!C34 -> 0.17791064 | E16: ='2. WB and IMF ext debt pay data'!D34 -> 0.13104745 | F16: ='2. WB and IMF ext debt pay data'!E34 -> 0.16264571 | G16: ='2. WB and IMF ext debt pay data'!F34 -> 0.16859284 | H16: ='2. WB and IMF ext debt pay data'!G34 -> 0.20994939 | I16: ='2. WB and IMF ext debt pay data'!H34 -> 0.21374795 | J16: ='2. WB and IMF ext debt pay data'!I34 -> 0.27239621 | K16: ='2. WB and IMF ext debt pay data'!J34 -> 0.30262147 | ... BB16: ='2. WB and IMF ext debt pay data'!BA34 -> 0.111 | BH16: =AVERAGE(AQ16:AW16) -> 0.10969079 | BI16: =AVERAGE(AR16:AW16) -> 0.11616042 | BJ16: =AVERAGE(AV16:AY16) -> 0.151439
A17: Barbados | B17: High | C17: SIDS | AU17: ='2. WB and IMF ext debt pay data'!AT37 -> 0.14285714 | AV17: ='2. WB and IMF ext debt pay data'!AU37 -> 0.15972222 | AW17: ='2. WB and IMF ext debt pay data'!AV37 -> 0.19330855 | AX17: ='2. WB and IMF ext debt pay data'!AW37 -> 0.17712177 | AY17: ='2. WB and IMF ext debt pay data'!AX37 -> 0.17712177 | AZ17: ='2. WB and IMF ext debt pay data'!AY37 -> 0.1697417 | BA17: ='2. WB and IMF ext debt pay data'!AZ37 -> 0.16236162 | BB17: ='2. WB and IMF ext debt pay data'!BA37 -> 0.11808118 | BH17: =AVERAGE(AQ17:AW17) -> 0.16529597 | BI17: =AVERAGE(AR17:AW17) -> 0.16529597 | BJ17: =AVERAGE(AV17:AY17) -> 0.17681858
A18: Belize | B18: Upper middle | C18: SIDS | D18: ='2. WB and IMF ext debt pay data'!C40 -> 0.035620294 | E18: ='2. WB and IMF ext debt pay data'!D40 -> 0.076592157 | F18: ='2. WB and IMF ext debt pay data'!E40 -> 0.13309287 | G18: ='2. WB and IMF ext debt pay data'!F40 -> 0.1541148 | H18: ='2. WB and IMF ext debt pay data'!G40 -> 0.13466628 | I18: ='2. WB and IMF ext debt pay data'!H40 -> 0.32742146 | J18: ='2. WB and IMF ext debt pay data'!I40 -> 0.27859204 | K18: ='2. WB and IMF ext debt pay data'!J40 -> 0.23080462 | ... BB18: ='2. WB and IMF ext debt pay data'!BA40 -> 0.1350211 | BH18: =AVERAGE(AQ18:AW18) -> 0.14592914 | BI18: =AVERAGE(AR18:AW18) -> 0.14355645 | BJ18: =AVERAGE(AV18:AY18) -> 0.14687874
A19: Benin | B19: Lower middle | D19: ='2. WB and IMF ext debt pay data'!C43 -> 0.025442508 | E19: ='2. WB and IMF ext debt pay data'!D43 -> 0.043274687 | F19: ='2. WB and IMF ext debt pay data'!E43 -> 0.063209393 | G19: ='2. WB and IMF ext debt pay data'!F43 -> 0.12613988 | H19: ='2. WB and IMF ext debt pay data'!G43 -> 0.18552307 | I19: ='2. WB and IMF ext debt pay data'!H43 -> 0.17885615 | J19: ='2. WB and IMF ext debt pay data'!I43 -> 0.1791803 | K19: ='2. WB and IMF ext debt pay data'!J43 -> 0.088918933 | ... BB19: ='2. WB and IMF ext debt pay data'!BA43 -> 0.193 | BH19: =AVERAGE(AQ19:AW19) -> 0.22848701 | BI19: =AVERAGE(AR19:AW19) -> 0.24916369 | BJ19: =AVERAGE(AV19:AY19) -> 0.26581943
A20: Bhutan | B20: Lower middle | E20: ='2. WB and IMF ext debt pay data'!D46 -> 3.5537319e-05 | F20: ='2. WB and IMF ext debt pay data'!E46 -> 6.3057713e-05 | G20: ='2. WB and IMF ext debt pay data'!F46 -> 9.6012635e-05 | H20: ='2. WB and IMF ext debt pay data'!G46 -> 0.0004716449 | I20: ='2. WB and IMF ext debt pay data'!H46 -> 0.00036381942 | J20: ='2. WB and IMF ext debt pay data'!I46 -> 0.0017189181 | K20: ='2. WB and IMF ext debt pay data'!J46 -> 0.0046183679 | L20: ='2. WB and IMF ext debt pay data'!K46 -> 0.010296698 | ... BB20: ='2. WB and IMF ext debt pay data'!BA46 -> 0.39 | BH20: =AVERAGE(AQ20:AW20) -> 0.15757279 | BI20: =AVERAGE(AR20:AW20) -> 0.16679851 | BJ20: =AVERAGE(AV20:AY20) -> 0.32663325
A21: Bolivia | B21: Lower middle | D21: ='2. WB and IMF ext debt pay data'!C49 -> 0.43687382 | E21: ='2. WB and IMF ext debt pay data'!D49 -> 0.23105106 | F21: ='2. WB and IMF ext debt pay data'!E49 -> 0.89151536 | G21: ='2. WB and IMF ext debt pay data'!F49 -> 0.71054851 | H21: ='2. WB and IMF ext debt pay data'!G49 -> 2.5051691 | I21: ='2. WB and IMF ext debt pay data'!H49 -> 0.58106557 | J21: ='2. WB and IMF ext debt pay data'!I49 -> 0.26440661 | K21: ='2. WB and IMF ext debt pay data'!J49 -> 0.29513196 | ... BB21: ='2. WB and IMF ext debt pay data'!BA49 -> 0.055319149 | BH21: =AVERAGE(AQ21:AW21) -> 0.10814517 | BI21: =AVERAGE(AR21:AW21) -> 0.11517453 | BJ21: =AVERAGE(AV21:AY21) -> 0.1096713
A22: Bosnia and Herzegovina | B22: Upper middle | W22: ='2. WB and IMF ext debt pay data'!V52 -> 0.053240029 | X22: ='2. WB and IMF ext debt pay data'!W52 -> 0.099222107 | Y22: ='2. WB and IMF ext debt pay data'!X52 -> 0.099645375 | Z22: ='2. WB and IMF ext debt pay data'!Y52 -> 0.044444245 | AA22: ='2. WB and IMF ext debt pay data'!Z52 -> 0.037432833 | AB22: ='2. WB and IMF ext debt pay data'!AA52 -> 0.03233317 | AC22: ='2. WB and IMF ext debt pay data'!AB52 -> 0.029829329 | AD22: ='2. WB and IMF ext debt pay data'!AC52 -> 0.029609673 | ... BB22: ='2. WB and IMF ext debt pay data'!BA52 -> 0.070422535 | BH22: =AVERAGE(AQ22:AW22) -> 0.063096052 | BI22: =AVERAGE(AR22:AW22) -> 0.063228001 | BJ22: =AVERAGE(AV22:AY22) -> 0.061702813
A23: Botswana | B23: Upper middle | D23: ='2. WB and IMF ext debt pay data'!C55 -> 0.024468922 | E23: ='2. WB and IMF ext debt pay data'!D55 -> 0.019183755 | F23: ='2. WB and IMF ext debt pay data'!E55 -> 0.028659073 | G23: ='2. WB and IMF ext debt pay data'!F55 -> 0.046717147 | H23: ='2. WB and IMF ext debt pay data'!G55 -> 0.060747517 | I23: ='2. WB and IMF ext debt pay data'!H55 -> 0.096144477 | J23: ='2. WB and IMF ext debt pay data'!I55 -> 0.067933967 | K23: ='2. WB and IMF ext debt pay data'!J55 -> 0.069613024 | ... BB23: ='2. WB and IMF ext debt pay data'!BA55 -> 0.044117647 | BH23: =AVERAGE(AQ23:AW23) -> 0.0391194 | BI23: =AVERAGE(AR23:AW23) -> 0.039237634 | BJ23: =AVERAGE(AV23:AY23) -> 0.048467897
A24: Brazil | B24: Upper middle | D24: ='2. WB and IMF ext debt pay data'!C58 -> 0.15170942 | E24: ='2. WB and IMF ext debt pay data'!D58 -> 0.14986913 | F24: ='2. WB and IMF ext debt pay data'!E58 -> 0.15663557 | G24: ='2. WB and IMF ext debt pay data'!F58 -> 0.1420017 | H24: ='2. WB and IMF ext debt pay data'!G58 -> 0.15148953 | I24: ='2. WB and IMF ext debt pay data'!H58 -> 0.091303058 | J24: ='2. WB and IMF ext debt pay data'!I58 -> 0.086426497 | K24: ='2. WB and IMF ext debt pay data'!J58 -> 0.08795146 | ... BB24: ='2. WB and IMF ext debt pay data'!BA58 -> 0.012376238 | BH24: =AVERAGE(AQ24:AW24) -> 0.044465147 | BI24: =AVERAGE(AR24:AW24) -> 0.042106237 | BJ24: =AVERAGE(AV24:AY24) -> 0.022989794
A25: Burkina Faso | B25: Low | D25: ='2. WB and IMF ext debt pay data'!C62 -> 0.059242645 | E25: ='2. WB and IMF ext debt pay data'!D62 -> 0.055140574 | F25: ='2. WB and IMF ext debt pay data'!E62 -> 0.065809999 | G25: ='2. WB and IMF ext debt pay data'!F62 -> 0.071445128 | H25: ='2. WB and IMF ext debt pay data'!G62 -> 0.099367131 | I25: ='2. WB and IMF ext debt pay data'!H62 -> 0.14831704 | J25: ='2. WB and IMF ext debt pay data'!I62 -> 0.13082561 | K25: ='2. WB and IMF ext debt pay data'!J62 -> 0.085802346 | ... BB25: ='2. WB and IMF ext debt pay data'!BA62 -> 0.05 | BH25: =AVERAGE(AQ25:AW25) -> 0.054438267 | BI25: =AVERAGE(AR25:AW25) -> 0.054943823 | BJ25: =AVERAGE(AV25:AY25) -> 0.06604306
A26: Burundi | B26: Low | D26: ='2. WB and IMF ext debt pay data'!C65 -> 0.026819107 | E26: ='2. WB and IMF ext debt pay data'!D65 -> 0.022699747 | F26: ='2. WB and IMF ext debt pay data'!E65 -> 0.023094049 | G26: ='2. WB and IMF ext debt pay data'!F65 -> 0.044505838 | H26: ='2. WB and IMF ext debt pay data'!G65 -> 0.084090376 | I26: ='2. WB and IMF ext debt pay data'!H65 -> 0.077949415 | J26: ='2. WB and IMF ext debt pay data'!I65 -> 0.10036958 | K26: ='2. WB and IMF ext debt pay data'!J65 -> 0.14332799 | ... BB26: ='2. WB and IMF ext debt pay data'!BA65 -> 0.03 | BH26: =AVERAGE(AQ26:AW26) -> 0.051648186 | BI26: =AVERAGE(AR26:AW26) -> 0.050975076 | BJ26: =AVERAGE(AV26:AY26) -> 0.05684694
A27: Cabo Verde | B27: Upper middle | C27: SIDS | E27: ='2. WB and IMF ext debt pay data'!D68 -> 0.0051255999 | F27: ='2. WB and IMF ext debt pay data'!E68 -> 0.030547892 | G27: ='2. WB and IMF ext debt pay data'!F68 -> 0.064113396 | H27: ='2. WB and IMF ext debt pay data'!G68 -> 0.11218855 | I27: ='2. WB and IMF ext debt pay data'!H68 -> 0.089947279 | J27: ='2. WB and IMF ext debt pay data'!I68 -> 0.069133124 | K27: ='2. WB and IMF ext debt pay data'!J68 -> 0.092148643 | L27: ='2. WB and IMF ext debt pay data'!K68 -> 0.075702147 | ... BB27: ='2. WB and IMF ext debt pay data'!BA68 -> 0.132 | BH27: =AVERAGE(AQ27:AW27) -> 0.15520813 | BI27: =AVERAGE(AR27:AW27) -> 0.16370959 | BJ27: =AVERAGE(AV27:AY27) -> 0.17502688
A28: Cambodia | B28: Lower middle | P28: ='2. WB and IMF ext debt pay data'!O71 -> 0.06174553 | Q28: ='2. WB and IMF ext debt pay data'!P71 -> 0.17223995 | R28: ='2. WB and IMF ext debt pay data'!Q71 -> 0.0037687269 | S28: ='2. WB and IMF ext debt pay data'!R71 -> 0.023995168 | T28: ='2. WB and IMF ext debt pay data'!S71 -> 0.026155844 | U28: ='2. WB and IMF ext debt pay data'!T71 -> 0.026611511 | V28: ='2. WB and IMF ext debt pay data'!U71 -> 0.038545839 | W28: ='2. WB and IMF ext debt pay data'!V71 -> 0.047662028 | ... BB28: ='2. WB and IMF ext debt pay data'!BA71 -> 0.095 | BH28: =AVERAGE(AQ28:AW28) -> 0.069123638 | BI28: =AVERAGE(AR28:AW28) -> 0.07348872 | BJ28: =AVERAGE(AV28:AY28) -> 0.09496996
A29: Cameroon | B29: Lower middle | D29: ='2. WB and IMF ext debt pay data'!C74 -> 0.15396247 | E29: ='2. WB and IMF ext debt pay data'!D74 -> 0.14473783 | F29: ='2. WB and IMF ext debt pay data'!E74 -> 0.19008194 | G29: ='2. WB and IMF ext debt pay data'!F74 -> 0.14606203 | H29: ='2. WB and IMF ext debt pay data'!G74 -> 0.15582894 | I29: ='2. WB and IMF ext debt pay data'!H74 -> 0.16007972 | J29: ='2. WB and IMF ext debt pay data'!I74 -> 0.15474442 | K29: ='2. WB and IMF ext debt pay data'!J74 -> 0.14241368 | ... BB29: ='2. WB and IMF ext debt pay data'!BA74 -> 0.169 | BH29: =AVERAGE(AQ29:AW29) -> 0.1716289 | BI29: =AVERAGE(AR29:AW29) -> 0.18139784 | BJ29: =AVERAGE(AV29:AY29) -> 0.18520712
A30: Central African Republic | B30: Low | D30: ='2. WB and IMF ext debt pay data'!C77 -> 0.069069578 | E30: ='2. WB and IMF ext debt pay data'!D77 -> 0.070638122 | F30: ='2. WB and IMF ext debt pay data'!E77 -> 0.060324187 | G30: ='2. WB and IMF ext debt pay data'!F77 -> 0.17873982 | H30: ='2. WB and IMF ext debt pay data'!G77 -> 0.22036889 | I30: ='2. WB and IMF ext debt pay data'!H77 -> 0.17720045 | J30: ='2. WB and IMF ext debt pay data'!I77 -> 0.14523649 | K30: ='2. WB and IMF ext debt pay data'!J77 -> 0.12872844 | ... BB30: ='2. WB and IMF ext debt pay data'!BA77 -> 0.099 | BH30: =AVERAGE(AQ30:AW30) -> 0.096623557 | BI30: =AVERAGE(AR30:AW30) -> 0.10022412 | BJ30: =AVERAGE(AV30:AY30) -> 0.19524302
A31: Chad | B31: Low | D31: ='2. WB and IMF ext debt pay data'!C80 -> 0.069448729 | E31: ='2. WB and IMF ext debt pay data'!D80 -> 0.074734487 | F31: ='2. WB and IMF ext debt pay data'!E80 -> 0.017590188 | G31: ='2. WB and IMF ext debt pay data'!F80 -> 0.011421337 | H31: ='2. WB and IMF ext debt pay data'!G80 -> 0.072418313 | I31: ='2. WB and IMF ext debt pay data'!H80 -> 0.15185546 | J31: ='2. WB and IMF ext debt pay data'!I80 -> 0.055930885 | K31: ='2. WB and IMF ext debt pay data'!J80 -> 0.046983245 | ... BB31: ='2. WB and IMF ext debt pay data'!BA80 -> 0.075 | BH31: =AVERAGE(AQ31:AW31) -> 0.12435664 | BI31: =AVERAGE(AR31:AW31) -> 0.13087632 | BJ31: =AVERAGE(AV31:AY31) -> 0.10910571
A32: China | B32: Upper middle | E32: ='2. WB and IMF ext debt pay data'!D83 -> 0.025120238 | F32: ='2. WB and IMF ext debt pay data'!E83 -> 0.026919765 | G32: ='2. WB and IMF ext debt pay data'!F83 -> 0.032023085 | H32: ='2. WB and IMF ext debt pay data'!G83 -> 0.025704885 | I32: ='2. WB and IMF ext debt pay data'!H83 -> 0.025990471 | J32: ='2. WB and IMF ext debt pay data'!I83 -> 0.038668764 | K32: ='2. WB and IMF ext debt pay data'!J83 -> 0.049657123 | L32: ='2. WB and IMF ext debt pay data'!K83 -> 0.057274006 | ... BB32: ='2. WB and IMF ext debt pay data'!BA83 -> 0.024508663 | BH32: =AVERAGE(AQ32:AW32) -> 0.015823409 | BI32: =AVERAGE(AR32:AW32) -> 0.01724263 | BJ32: =AVERAGE(AV32:AY32) -> 0.015743905
A33: Colombia | B33: Upper middle | D33: ='2. WB and IMF ext debt pay data'!C86 -> 0.10759336 | E33: ='2. WB and IMF ext debt pay data'!D86 -> 0.12506346 | F33: ='2. WB and IMF ext debt pay data'!E86 -> 0.15437934 | G33: ='2. WB and IMF ext debt pay data'!F86 -> 0.15429712 | H33: ='2. WB and IMF ext debt pay data'!G86 -> 0.18300037 | I33: ='2. WB and IMF ext debt pay data'!H86 -> 0.2399 | J33: ='2. WB and IMF ext debt pay data'!I86 -> 0.30816594 | K33: ='2. WB and IMF ext debt pay data'!J86 -> 0.33207284 | ... BB33: ='2. WB and IMF ext debt pay data'!BA86 -> 0.1043956 | BH33: =AVERAGE(AQ33:AW33) -> 0.12068346 | BI33: =AVERAGE(AR33:AW33) -> 0.125921 | BJ33: =AVERAGE(AV33:AY33) -> 0.14170934
A34: Comoros | B34: Lower middle | C34: SIDS | D34: ='2. WB and IMF ext debt pay data'!C89 -> 0.0065818172 | E34: ='2. WB and IMF ext debt pay data'!D89 -> 0.012268048 | F34: ='2. WB and IMF ext debt pay data'!E89 -> 0.017683218 | G34: ='2. WB and IMF ext debt pay data'!F89 -> 0.037766152 | H34: ='2. WB and IMF ext debt pay data'!G89 -> 0.074891608 | I34: ='2. WB and IMF ext debt pay data'!H89 -> 0.04964289 | J34: ='2. WB and IMF ext debt pay data'!I89 -> 0.034987947 | K34: ='2. WB and IMF ext debt pay data'!J89 -> 0.01869067 | ... BB34: ='2. WB and IMF ext debt pay data'!BA89 -> 0.118 | BH34: =AVERAGE(AQ34:AW34) -> 0.064657582 | BI34: =AVERAGE(AR34:AW34) -> 0.067331782 | BJ34: =AVERAGE(AV34:AY34) -> 0.11683652
A35: DR Congo | B35: Low | D35: ='2. WB and IMF ext debt pay data'!C92 -> 0.072459797 | E35: ='2. WB and IMF ext debt pay data'!D92 -> 0.05831423 | F35: ='2. WB and IMF ext debt pay data'!E92 -> 0.028506297 | G35: ='2. WB and IMF ext debt pay data'!F92 -> 0.04319324 | H35: ='2. WB and IMF ext debt pay data'!G92 -> 0.11193971 | I35: ='2. WB and IMF ext debt pay data'!H92 -> 0.14870933 | J35: ='2. WB and IMF ext debt pay data'!I92 -> 0.12093259 | K35: ='2. WB and IMF ext debt pay data'!J92 -> 0.13033821 | ... BB35: ='2. WB and IMF ext debt pay data'!BA92 -> 0.088 | BH35: =AVERAGE(AQ35:AW35) -> 0.056804093 | BI35: =AVERAGE(AR35:AW35) -> 0.055929538 | BJ35: =AVERAGE(AV35:AY35) -> 0.05897207
A36: R Congo | B36: Lower middle | M36: ='2. WB and IMF ext debt pay data'!L95 -> 0.58478038 | N36: ='2. WB and IMF ext debt pay data'!M95 -> 0.61545915 | O36: ='2. WB and IMF ext debt pay data'!N95 -> 0.40592638 | P36: ='2. WB and IMF ext debt pay data'!O95 -> 0.22777031 | Q36: ='2. WB and IMF ext debt pay data'!P95 -> 0.19829464 | R36: ='2. WB and IMF ext debt pay data'!Q95 -> 0.30141668 | S36: ='2. WB and IMF ext debt pay data'!R95 -> 0.29022899 | T36: ='2. WB and IMF ext debt pay data'!S95 -> 0.48937279 | ... BB36: ='2. WB and IMF ext debt pay data'!BA95 -> 0.126 | BH36: =AVERAGE(AQ36:AW36) -> 0.22706506 | BI36: =AVERAGE(AR36:AW36) -> 0.24049634 | BJ36: =AVERAGE(AV36:AY36) -> 0.18307328
A37: Costa Rica | AV37: ='2. WB and IMF ext debt pay data'!AU97 -> 0.20805369 | AW37: ='2. WB and IMF ext debt pay data'!AV97 -> 0.21333333 | AX37: ='2. WB and IMF ext debt pay data'!AW97 -> 0.16556291 | AY37: ='2. WB and IMF ext debt pay data'!AX97 -> 0.17218543 | AZ37: ='2. WB and IMF ext debt pay data'!AY97 -> 0.1192053 | BA37: ='2. WB and IMF ext debt pay data'!AZ97 -> 0.17880795 | BB37: ='2. WB and IMF ext debt pay data'!BA97 -> 0.13907285 | BH37: =AVERAGE(AQ37:AW37) -> 0.21069351 | BI37: =AVERAGE(AR37:AW37) -> 0.21069351 | BJ37: =AVERAGE(AV37:AY37) -> 0.18978384
A38: Cote d'Ivoire | B38: Lower middle | D38: ='2. WB and IMF ext debt pay data'!C100 -> 0.48238193 | E38: ='2. WB and IMF ext debt pay data'!D100 -> 0.61826683 | F38: ='2. WB and IMF ext debt pay data'!E100 -> 0.72853882 | G38: ='2. WB and IMF ext debt pay data'!F100 -> 0.68528464 | H38: ='2. WB and IMF ext debt pay data'!G100 -> 0.6086981 | I38: ='2. WB and IMF ext debt pay data'!H100 -> 0.61504368 | J38: ='2. WB and IMF ext debt pay data'!I100 -> 0.60063069 | K38: ='2. WB and IMF ext debt pay data'!J100 -> 0.4247164 | ... BB38: ='2. WB and IMF ext debt pay data'!BA100 -> 0.169 | BH38: =AVERAGE(AQ38:AW38) -> 0.25440351 | BI38: =AVERAGE(AR38:AW38) -> 0.24828408 | BJ38: =AVERAGE(AV38:AY38) -> 0.25678072
A39: Djibouti | B39: Lower middle | N39: ='2. WB and IMF ext debt pay data'!M103 -> 0.064509227 | O39: ='2. WB and IMF ext debt pay data'!N103 -> 0.059748984 | P39: ='2. WB and IMF ext debt pay data'!O103 -> 0.052083505 | Q39: ='2. WB and IMF ext debt pay data'!P103 -> 0.046040644 | R39: ='2. WB and IMF ext debt pay data'!Q103 -> 0.059798993 | S39: ='2. WB and IMF ext debt pay data'!R103 -> 0.072909746 | T39: ='2. WB and IMF ext debt pay data'!S103 -> 0.076495721 | U39: ='2. WB and IMF ext debt pay data'!T103 -> 0.043455235 | ... BB39: ='2. WB and IMF ext debt pay data'!BA103 -> 0.169 | BH39: =AVERAGE(AQ39:AW39) -> 0.10266881 | BI39: =AVERAGE(AR39:AW39) -> 0.10420619 | BJ39: =AVERAGE(AV39:AY39) -> 0.164187
A40: Dominica | B40: Upper middle | C40: SIDS | E40: ='2. WB and IMF ext debt pay data'!D106 -> 0.028501046 | F40: ='2. WB and IMF ext debt pay data'!E106 -> 0.039221415 | G40: ='2. WB and IMF ext debt pay data'!F106 -> 0.081550474 | H40: ='2. WB and IMF ext debt pay data'!G106 -> 0.14498265 | I40: ='2. WB and IMF ext debt pay data'!H106 -> 0.1397745 | J40: ='2. WB and IMF ext debt pay data'!I106 -> 0.14797983 | K40: ='2. WB and IMF ext debt pay data'!J106 -> 0.20717186 | L40: ='2. WB and IMF ext debt pay data'!K106 -> 0.15855038 | ... BB40: ='2. WB and IMF ext debt pay data'!BA106 -> 0.059 | BH40: =AVERAGE(AQ40:AW40) -> 0.092465376 | BI40: =AVERAGE(AR40:AW40) -> 0.089468507 | BJ40: =AVERAGE(AV40:AY40) -> 0.089715554
A41: Dominican Republic | B41: Upper middle | C41: SIDS | D41: ='2. WB and IMF ext debt pay data'!C109 -> 0.20212219 | E41: ='2. WB and IMF ext debt pay data'!D109 -> 0.20729871 | F41: ='2. WB and IMF ext debt pay data'!E109 -> 0.23089591 | G41: ='2. WB and IMF ext debt pay data'!F109 -> 0.19906805 | H41: ='2. WB and IMF ext debt pay data'!G109 -> 0.10196756 | I41: ='2. WB and IMF ext debt pay data'!H109 -> 0.30515915 | J41: ='2. WB and IMF ext debt pay data'!I109 -> 0.33778032 | K41: ='2. WB and IMF ext debt pay data'!J109 -> 0.25051427 | ... BB41: ='2. WB and IMF ext debt pay data'!BA109 -> 0.23870968 | BH41: =AVERAGE(AQ41:AW41) -> 0.21360213 | BI41: =AVERAGE(AR41:AW41) -> 0.22349355 | BJ41: =AVERAGE(AV41:AY41) -> 0.18426979
A42: Ecuador | B42: Upper middle | D42: ='2. WB and IMF ext debt pay data'!C112 -> 0.18530888 | E42: ='2. WB and IMF ext debt pay data'!D112 -> 0.29678027 | F42: ='2. WB and IMF ext debt pay data'!E112 -> 0.35617756 | G42: ='2. WB and IMF ext debt pay data'!F112 -> 0.19857276 | H42: ='2. WB and IMF ext debt pay data'!G112 -> 0.3520239 | I42: ='2. WB and IMF ext debt pay data'!H112 -> 0.2847583 | J42: ='2. WB and IMF ext debt pay data'!I112 -> 0.41370748 | K42: ='2. WB and IMF ext debt pay data'!J112 -> 0.32184046 | ... BB42: ='2. WB and IMF ext debt pay data'!BA112 -> 0.094185759 | BH42: =AVERAGE(AQ42:AW42) -> 0.11821255 | BI42: =AVERAGE(AR42:AW42) -> 0.11072752 | BJ42: =AVERAGE(AV42:AY42) -> 0.11766564
...

Sheet 2. WB and IMF ext debt pay data
C1: =D1-1 -> 1980 | D1: =E1-1 -> 1981 | E1: =F1-1 -> 1982 | F1: =G1-1 -> 1983 | G1: =H1-1 -> 1984 | H1: =I1-1 -> 1985 | I1: =J1-1 -> 1986 | J1: =K1-1 -> 1987 | ... AT1: =AU1-1 -> 2023 | AU1: 2024 | AV1: =AU1+1 -> 2025 | AW1: =AV1+1 -> 2026 | AX1: =AW1+1 -> 2027 | AY1: =AX1+1 -> 2028 | AZ1: =AY1+1 -> 2029 | BA1: =AZ1+1 -> 2030
A2: Afghanistan | B2: IMF data
B3: World Bank data | AC3: 0.0083034795 | AD3: 0.0037888008 | AE3: 0.0045780359 | AF3: 0.0045898837 | AG3: 0.0028395629 | AH3: 0.0026311922 | AI3: 0.0026853328 | AJ3: 0.005006629 | AK3: 0.0083628653 | AL3: 0.0097040888 | AM3: 0.010130684 | AN3: 0.010087342 | AO3: 0.0087918064 | AP3: 0.0087833427 | AQ3: 0.0074461189 | AR3: 0.0099199726 | AS3: 0.011512743 | AT3: 0.015267062 | AU3: 0.019202428
B4: Final | AC4: 0.0083034795 | AD4: 0.0037888008 | AE4: 0.0045780359 | AF4: 0.0045898837 | AG4: 0.0028395629 | AH4: 0.0026311922 | AI4: 0.0026853328 | AJ4: 0.005006629 | AK4: 0.0083628653 | AL4: 0.0097040888 | AM4: 0.010130684 | AN4: 0.010087342 | AO4: 0.0087918064 | AP4: 0.0087833427 | AQ4: 0.0074461189 | AR4: 0.0099199726 | AS4: 0.011512743 | AT4: 0.015267062 | AU4: 0.019202428
A5: Albania | B5: IMF data | AU5: 0.10035842 | AV5: 0.14893617 | AW5: 0.066433566 | AX5: 0.1358885 | AY5: 0.12152778 | AZ5: 0.053191489 | BA5: 0.09375 | BC5: https://www.imf.org/en/Publications/CR/Issues/2025/01/24/Albania-2024-Article-IV-Consultation-Press-Release-Staff-Report-and-Statement-by-the-561199 | BD5: Foreign currency
B6: World Bank data | N6: 0.014870649 | O6: 0.013317628 | P6: 0.0306895 | Q6: 0.043017502 | R6: 0.014298177 | S6: 0.034590249 | T6: 0.052971176 | U6: 0.0272251 | V6: 0.022554259 | W6: 0.030148439 | X6: 0.033183352 | Y6: 0.047850915 | Z6: 0.038051135 | AA6: 0.038278749 | AB6: 0.036567313 | AC6: 0.041783308 | AD6: 0.037289985 | AE6: 0.034141467 | AF6: 0.052818934 | AG6: 0.082007843 | AH6: 0.094029986 | AI6: 0.099035714 | AJ6: 0.06723907 | AK6: 0.07598949 | AL6: 0.19818076 | AM6: 0.085915177 | AN6: 0.086765255 | AO6: 0.16561376 | AP6: 0.092582061 | AQ6: 0.17338575 | AR6: 0.1105124 | AS6: 0.090491035 | AT6: 0.092628626 | AU6: 0.08851873 | AV6: 0.16927446
B7: FInal | N7: 0.014870649 | O7: 0.013317628 | P7: 0.0306895 | Q7: 0.043017502 | R7: 0.014298177 | S7: 0.034590249 | T7: 0.052971176 | U7: 0.0272251 | V7: 0.022554259 | W7: 0.030148439 | X7: 0.033183352 | Y7: 0.047850915 | Z7: 0.038051135 | AA7: 0.038278749 | AB7: 0.036567313 | AC7: 0.041783308 | AD7: 0.037289985 | AE7: 0.034141467 | AF7: 0.052818934 | AG7: 0.082007843 | AH7: 0.094029986 | AI7: 0.099035714 | AJ7: 0.06723907 | AK7: 0.07598949 | AL7: 0.19818076 | AM7: 0.085915177 | AN7: 0.086765255 | AO7: 0.16561376 | AP7: 0.092582061 | AQ7: 0.17338575 | AR7: 0.1105124 | AS7: 0.090491035 | AT7: 0.092628626 | AU7: 0.08851873 | AV7: 0.14893617 | AW7: 0.066433566 | AX7: 0.1358885 | AY7: 0.12152778 | AZ7: 0.053191489 | BA7: 0.09375
A8: Algeria | B8: IMF data | AU8: 0 | AV8: 0 | AW8: 0 | AX8: 0 | AY8: 0 | AZ8: 0 | BA8: 0 | BC8: https://www.imf.org/en/Publications/CR/Issues/2025/09/18/Algeria-2025-Article-IV-Consultation-Press-Release-and-Staff-Report-570472 | BD8: Foreign currency
B9: World Bank data | C9: 0.31978985 | D9: 0.30094233 | E9: 0.33375674 | F9: 0.32936452 | G9: 0.32965716 | H9: 0.27210674 | I9: 0.28450395 | J9: 0.29062167 | K9: 0.41473288 | L9: 0.44680067 | M9: 0.48250908 | N9: 0.61522164 | O9: 0.62946673 | P9: 0.66075084 | Q9: 0.41048229 | R9: 0.33540923 | S9: 0.27872836 | T9: 0.27434451 | U9: 0.38803992 | V9: 0.35495614 | W9: 0.21302977 | X9: 0.22802524 | Y9: 0.2036089 | Z9: 0.17050265 | AA9: 0.17893592 | AB9: 0.13600713 | AC9: 0.26356172 | AD9: 0.014099361 | AE9: 0.012583413 | AF9: 0.0092522597 | AG9: 0.0065710588 | AH9: 0.0059223212 | AI9: 0.0081344932 | AJ9: 0.0040165654 | AK9: 0.0033613122 | AL9: 0.0037238483 | AM9: 0.003653425 | AN9: 0.0030648684 | AO9: 0.0025468035 | AP9: 0.0023872257 | AQ9: 0.0023514621 | AR9: 0.0025560974 | AS9: 0.0026751944 | AT9: 0.0034350548 | AU9: 0.0042130304 | AV9: 0.0011484053 | AW9: 0.0012678663 | AX9: 0.0012162588 | AY9: 0.0011343234 | AZ9: 0.0010402362 | BA9: 0.0010171173
B10: Final | C10: 0.31978985 | D10: 0.30094233 | E10: 0.33375674 | F10: 0.32936452 | G10: 0.32965716 | H10: 0.27210674 | I10: 0.28450395 | J10: 0.29062167 | K10: 0.41473288 | L10: 0.44680067 | M10: 0.48250908 | N10: 0.61522164 | O10: 0.62946673 | P10: 0.66075084 | Q10: 0.41048229 | R10: 0.33540923 | S10: 0.27872836 | T10: 0.27434451 | U10: 0.38803992 | V10: 0.35495614 | W10: 0.21302977 | X10: 0.22802524 | Y10: 0.2036089 | Z10: 0.17050265 | AA10: 0.17893592 | AB10: 0.13600713 | AC10: 0.26356172 | AD10: 0.014099361 | AE10: 0.012583413 | AF10: 0.0092522597 | AG10: 0.0065710588 | AH10: 0.0059223212 | AI10: 0.0081344932 | AJ10: 0.0040165654 | AK10: 0.0033613122 | AL10: 0.0037238483 | AM10: 0.003653425 | AN10: 0.0030648684 | AO10: 0.0025468035 | AP10: 0.0023872257 | AQ10: 0.0023514621 | AR10: 0.0025560974 | AS10: 0.0026751944 | AT10: 0.0034350548 | AU10: 0.0042130304 | AV10: 0.0011484053 | AW10: 0.0012678663 | AX10: 0.0012162588 | AY10: 0.0011343234 | AZ10: 0.0010402362 | BA10: 0.0010171173
A11: Angola | B11: IMF data | AU11: ='3. MAC DSF calcs'!D6 -> 0.51807229 | AV11: ='3. MAC DSF calcs'!E6 -> 0.43243243 | AW11: ='3. MAC DSF calcs'!F6 -> 0.4375 | AX11: ='3. MAC DSF calcs'!G6 -> 0.61764706 | AY11: ='3. MAC DSF calcs'!H6 -> 0.56617647 | AZ11: ='3. MAC DSF calcs'!I6 -> 0.49264706 | BA11: ='3. MAC DSF calcs'!J6 -> 0.51851852 | BB11: 46143 | BC11: https://www.imf.org/en/publications/cr/issues/2026/05/08/angola-2026-article-iv-consultation-press-release-staff-report-and-statement-by-the-575947 | BD11: Foreign currency
B12: World Bank data | L12: 0.053565998 | M12: 0.05703397 | N12: 0.069804105 | O12: 0.051607501 | P12: 0.032920271 | Q12: 0.10421847 | R12: 0.16970729 | S12: 0.26102284 | T12: 0.25369455 | U12: 0.58250119 | V12: 0.38903486 | W12: 0.35423549 | X12: 0.54139255 | Y12: 0.32654454 | Z12: 0.28004457 | AA12: 0.25714644 | AB12: 0.20531719 | AC12: 0.20726256 | AD12: 0.15801482 | AE12: 0.03685067 | AF12: 0.13540283 | AG12: 0.06405137 | AH12: 0.055406105 | AI12: 0.08196584 | AJ12: 0.10344724 | AK12: 0.16907275 | AL12: 0.24472523 | AM12: 0.53368015 | AN12: 0.38114962 | AO12: 0.39894678 | AP12: 0.56145214 | AQ12: 0.57297135 | AR12: 0.51486997 | AS12: 0.30693191 | AT12: 0.58378632 | AU12: 0.51831333 | AV12: 0.84248568
B13: Final | L13: 0.053565998 | M13: 0.05703397 | N13: 0.069804105 | O13: 0.051607501 | P13: 0.032920271 | Q13: 0.10421847 | R13: 0.16970729 | S13: 0.26102284 | T13: 0.25369455 | U13: 0.58250119 | V13: 0.38903486 | W13: 0.35423549 | X13: 0.54139255 | Y13: 0.32654454 | Z13: 0.28004457 | AA13: 0.25714644 | AB13: 0.20531719 | AC13: 0.20726256 | AD13: 0.15801482 | AE13: 0.03685067 | AF13: 0.13540283 | AG13: 0.06405137 | AH13: 0.055406105 | AI13: 0.08196584 | AJ13: 0.10344724 | AK13: 0.16907275 | AL13: 0.24472523 | AM13: 0.53368015 | AN13: 0.38114962 | AO13: 0.39894678 | AP13: 0.56145214 | AQ13: 0.57297135 | AR13: 0.51486997 | AS13: 0.30693191 | AT13: 0.58378632 | AU13: 0.51831333 | AV13: 0.43243243 | AW13: 0.4375 | AX13: 0.61764706 | AY13: 0.56617647 | AZ13: 0.49264706 | BA13: 0.51851852
A14: Antigua & Barbuda | B14: IMF data | AS14: ='3. MAC DSF calcs'!B14 -> 0.10555556 | AT14: ='3. MAC DSF calcs'!C14 -> 0.1257485 | AU14: ='3. MAC DSF calcs'!D14 -> 0.14155251 | AV14: ='3. MAC DSF calcs'!E14 -> 0.071428571 | AW14: ='3. MAC DSF calcs'!F14 -> 0.096330275 | AX14: ='3. MAC DSF calcs'!G14 -> 0.11428571 | AY14: ='3. MAC DSF calcs'!H14 -> 0.12857143 | AZ14: ='3. MAC DSF calcs'!I14 -> 0.12980769 | BA14: ='3. MAC DSF calcs'!J14 -> 0.13461538 | BB14: 46143 | BC14: https://www.imf.org/en/publications/cr/issues/2026/05/12/antigua-and-barbuda-2026-article-iv-consultation-press-release-staff-report-and-statement-576012 | BD14: Foreign currency
B15: World Bank data | C15: None
B16: Final | AS16: 0.10555556 | AT16: 0.1257485 | AU16: 0.14155251 | AV16: 0.071428571 | AW16: 0.096330275 | AX16: 0.11428571 | AY16: 0.12857143 | AZ16: 0.12980769 | BA16: 0.13461538
A17: Argentina | B17: IMF data | AU17: ='3. MAC DSF calcs'!D18 -> 0.30357143 | AV17: ='3. MAC DSF calcs'!E18 -> 0.16352201 | AW17: ='3. MAC DSF calcs'!F18 -> 0.30322581 | AX17: ='3. MAC DSF calcs'!G18 -> 0.27848101 | AY17: ='3. MAC DSF calcs'!H18 -> 0.32298137 | AZ17: ='3. MAC DSF calcs'!I18 -> 0.3902439 | BA17: ='3. MAC DSF calcs'!J18 -> 0.36585366 | BB17: 46143 | BC17: https://www.imf.org/en/publications/cr/issues/2026/05/22/argentina-2026-article-iv-consultation-second-review-under-the-extended-arrangement-under-576253 | BD17: Foreign currency
B18: World Bank data | C18: 0.042093334 | D18: 0.054535501 | E18: 0.11827983 | F18: 0.10304012 | G18: 0.13751131 | H18: 0.21869061 | I18: 0.23658921 | J18: 0.21503756 | K18: 0.15182014 | L18: 0.19729336 | M18: 0.17508345 | N18: 0.11241633 | O18: 0.080182139 | P18: 0.086610223 | Q18: 0.067783184 | R18: 0.1002434 | S18: 0.12724763 | T18: 0.14852466 | U18: 0.14787725 | V18: 0.18519293 | W18: 0.22451676 | X18: 0.18329178 | Y18: 0.22318525 | Z18: 0.39057842 | AA18: 0.19435085 | AB18: 0.13146103 | AC18: 0.21114589 | AD18: 0.057622733 | AE18: 0.051971346 | AF18: 0.069745705 | AG18: 0.064411206 | AH18: 0.046111804 | AI18: 0.031157022 | AJ18: 0.035334622 | AK18: 0.051840988 | AL18: 0.050666939 | AM18: 0.091018097 | AN18: 0.13648914 | AO18: 0.15331481 | AP18: 0.19560228 | AQ18: 0.092151865 | AR18: 0.066799378 | AS18: 0.12424372 | AT18: 0.14629133 | AU18: 0.11031893 | AV18: 0.049965353
B19: Final | C19: 0.042093334 | D19: 0.054535501 | E19: 0.11827983 | F19: 0.10304012 | G19: 0.13751131 | H19: 0.21869061 | I19: 0.23658921 | J19: 0.21503756 | K19: 0.15182014 | L19: 0.19729336 | M19: 0.17508345 | N19: 0.11241633 | O19: 0.080182139 | P19: 0.086610223 | Q19: 0.067783184 | R19: 0.1002434 | S19: 0.12724763 | T19: 0.14852466 | U19: 0.14787725 | V19: 0.18519293 | W19: 0.22451676 | X19: 0.18329178 | Y19: 0.22318525 | Z19: 0.39057842 | AA19: 0.19435085 | AB19: 0.13146103 | AC19: 0.21114589 | AD19: 0.057622733 | AE19: 0.051971346 | AF19: 0.069745705 | AG19: 0.064411206 | AH19: 0.046111804 | AI19: 0.031157022 | AJ19: 0.035334622 | AK19: 0.051840988 | AL19: 0.050666939 | AM19: 0.091018097 | AN19: 0.13648914 | AO19: 0.15331481 | AP19: 0.19560228 | AQ19: 0.092151865 | AR19: 0.066799378 | AS19: 0.12424372 | AT19: 0.14629133 | AU19: 0.11031893 | AV19: 0.16352201 | AW19: 0.30322581 | AX19: 0.27848101 | AY19: 0.32298137 | AZ19: 0.3902439 | BA19: 0.36585366
A20: Armenia | B20: IMF data | AU20: 0.1 | AV20: 0.1496063 | AW20: 0.09765625 | AX20: 0.08203125 | AY20: 0.081712062 | AZ20: 0.14396887 | BA20: 0.097276265 | BB20: 45992 | BC20: https://www.imf.org/en/Publications/CR/Issues/2024/12/17/Republic-of-Armenia-Fourth-Review-Under-the-Stand-By-Arrangement-and-Request-for-559673 | BD20: Foreign currency
B21: World Bank data | P21: 0.00895304 | Q21: 0.026201122 | R21: 0.049122409 | S21: 0.17325247 | T21: 0.090340761 | U21: 0.18366441 | V21: 0.17013006 | W21: 0.1456302 | X21: 0.1509905 | Y21: 0.17637506 | Z21: 0.23641521 | AA21: 0.17915014 | AB21: 0.073329484 | AC21: 0.055061284 | AD21: 0.030149922 | AE21: 0.023011518 | AF21: 0.0396489 | AG21: 0.045488103 | AH21: 0.045398104 | AI21: 0.10781547 | AJ21: 0.3485449 | AK21: 0.10381258 | AL21: 0.17070466 | AM21: 0.10364209 | AN21: 0.11626412 | AO21: 0.1340414 | AP21: 0.25612738 | AQ21: 0.17590957 | AR21: 0.1388843 | AS21: 0.10066698 | AT21: 0.13980926 | AU21: 0.11692901 | AV21: 0.14837064
B22: Final | P22: 0.00895304 | Q22: 0.026201122 | R22: 0.049122409 | S22: 0.17325247 | T22: 0.090340761 | U22: 0.18366441 | V22: 0.17013006 | W22: 0.1456302 | X22: 0.1509905 | Y22: 0.17637506 | Z22: 0.23641521 | AA22: 0.17915014 | AB22: 0.073329484 | AC22: 0.055061284 | AD22: 0.030149922 | AE22: 0.023011518 | AF22: 0.0396489 | AG22: 0.045488103 | AH22: 0.045398104 | AI22: 0.10781547 | AJ22: 0.3485449 | AK22: 0.10381258 | AL22: 0.17070466 | AM22: 0.10364209 | AN22: 0.11626412 | AO22: 0.1340414 | AP22: 0.25612738 | AQ22: 0.17590957 | AR22: 0.1388843 | AS22: 0.10066698 | AT22: 0.13980926 | AU22: 0.11692901 | AV22: 0.1496063 | AW22: 0.09765625 | AX22: 0.08203125 | AY22: 0.081712062 | AZ22: 0.14396887 | BA22: 0.097276265
A23: Aruba | B23: IMF data | AU23: 0.29795918 | AV23: 0.25531915 | AW23: 0.28947368 | AX23: 0.25 | AY23: 0.3245614 | AZ23: 0.39823009 | BA23: 0.21875 | BB23: 45992 | BC23: https://www.imf.org/en/publications/cr/issues/2025/12/01/kingdom-of-the-netherlands-aruba-2025-article-iv-consultation-discussions-press-release-572146 | BD23: Foreign currency
B24: World Bank data | C24: None
B25: Final | AU25: 0.29795918 | AV25: 0.25531915 | AW25: 0.28947368 | AX25: 0.25 | AY25: 0.3245614 | AZ25: 0.39823009 | BA25: 0.21875
A26: Azerbaijan | B26: IMF data | AU26: ='3. MAC DSF calcs'!D34 -> 0.012589928 | AV26: ='3. MAC DSF calcs'!E34 -> 0.019230769 | AW26: ='3. MAC DSF calcs'!F34 -> 0.017681729 | AX26: ='3. MAC DSF calcs'!G34 -> 0.025641026 | AY26: ='3. MAC DSF calcs'!H34 -> 0.034013605 | AZ26: ='3. MAC DSF calcs'!I34 -> 0.042154567 | BA26: ='3. MAC DSF calcs'!J34 -> 0.053268765 | BB26: 46143 | BC26: https://www.imf.org/-/media/files/publications/cr/2026/english/1azeea2026001.pdf | BD26: Foreign currency
B27: World Bank data | R27: 0.023152865 | S27: 0.01657231 | T27: 0.10194784 | U27: 0.024438234 | V27: 0.07135144 | W27: 0.12443963 | X27: 0.057196893 | Y27: 0.046275423 | Z27: 0.097910803 | AA27: 0.060681634 | AB27: 0.039386694 | AC27: 0.026477194 | AD27: 0.019445855 | AE27: 0.010630344 | AF27: 0.016104345 | AG27: 0.013007162 | AH27: 0.012116876 | AI27: 0.013903583 | AJ27: 0.029109175 | AK27: 0.023696419 | AL27: 0.044228981 | AM27: 0.076803983 | AN27: 0.11247737 | AO27: 0.11551333 | AP27: 0.07693552 | AQ27: 0.094662553 | AR27: 0.090797807 | AS27: 0.056306898 | AT27: 0.052375525 | AU27: 0.11810407 | AV27: 0.057633593
B28: Final | R28: 0.023152865 | S28: 0.01657231 | T28: 0.10194784 | U28: 0.024438234 | V28: 0.07135144 | W28: 0.12443963 | X28: 0.057196893 | Y28: 0.046275423 | Z28: 0.097910803 | AA28: 0.060681634 | AB28: 0.039386694 | AC28: 0.026477194 | AD28: 0.019445855 | AE28: 0.010630344 | AF28: 0.016104345 | AG28: 0.013007162 | AH28: 0.012116876 | AI28: 0.013903583 | AJ28: 0.029109175 | AK28: 0.023696419 | AL28: 0.044228981 | AM28: 0.076803983 | AN28: 0.11247737 | AO28: 0.11551333 | AP28: 0.07693552 | AQ28: 0.094662553 | AR28: 0.090797807 | AS28: 0.056306898 | AT28: 0.052375525 | AU28: 0.11810407 | AV28: 0.019230769 | AW28: 0.017681729 | AX28: 0.025641026 | AY28: 0.034013605 | AZ28: 0.042154567 | BA28: 0.053268765
A29: Bahamas, The | B29: IMF data | AS29: 0.2985782 | AT29: 0.30275229 | AU29: 0.38862559 | AV29: 0.54545455 | AW29: 0.28828829 | AX29: 0.29279279 | AY29: 0.29279279 | AZ29: 0.28378378 | BA29: 0.28828829 | BB29: 46054 | BC29: https://www.imf.org/en/Publications/CR/Issues/2025/01/17/The-Bahamas-2024-Article-IV-Consultation-Press-Release-Staff-Report-and-Statement-by-the-561018 | BD29: Foreign currency
B30: World Bank data | C30: None
B31: Final | AS31: 0.2985782 | AT31: 0.30275229 | AU31: 0.38862559 | AV31: 0.54545455 | AW31: 0.28828829 | AX31: 0.29279279 | AY31: 0.29279279 | AZ31: 0.28378378 | BA31: 0.28828829
A32: Bangladesh | B32: IMF data | AU32: 0.119 | AV32: 0.185 | AW32: 0.148 | AX32: 0.125 | AY32: 0.123 | AZ32: 0.114 | BA32: 0.111 | BB32: 46023 | BC32: https://www.imf.org/en/publications/cr/issues/2026/01/30/bangladesh-2025-article-iv-consultation-press-release-staff-report-and-statement-by-the-573579 | BD32: Foreign currency
B33: World Bank data | C33: 0.17791064 | D33: 0.13104745 | E33: 0.16264571 | F33: 0.16859284 | G33: 0.20994939 | H33: 0.21374795 | I33: 0.27239621 | J33: 0.30262147 | K33: 0.27249673 | L33: 0.25000288 | M33: 0.19451503 | N33: 0.14772441 | O33: 0.13110161 | P33: 0.11467614 | Q33: 0.11263266 | R33: 0.14193741 | S33: 0.14957918 | T33: 0.14543838 | U33: 0.13409507 | V33: 0.15059882 | W33: 0.16771142 | X33: 0.14268757 | Y33: 0.13268267 | Z33: 0.10989721 | AA33: 0.10629835 | AB33: 0.12424469 | AC33: 0.095292718 | AD33: 0.12347609 | AE33: 0.094705898 | AF33: 0.095621834 | AG33: 0.083886713 | AH33: 0.10123804 | AI33: 0.10070436 | AJ33: 0.10142287 | AK33: 0.089066354 | AL33: 0.069963255 | AM33: 0.055754416 | AN33: 0.063308392 | AO33: 0.061683252 | AP33: 0.070873018 | AQ33: 0.067773336 | AR33: 0.076152256 | AS33: 0.091857351 | AT33: 0.12842354 | AU33: 0.14775601 | AV33: 0.19490671
B34: Final | C34: 0.17791064 | D34: 0.13104745 | E34: 0.16264571 | F34: 0.16859284 | G34: 0.20994939 | H34: 0.21374795 | I34: 0.27239621 | J34: 0.30262147 | K34: 0.27249673 | L34: 0.25000288 | M34: 0.19451503 | N34: 0.14772441 | O34: 0.13110161 | P34: 0.11467614 | Q34: 0.11263266 | R34: 0.14193741 | S34: 0.14957918 | T34: 0.14543838 | U34: 0.13409507 | V34: 0.15059882 | W34: 0.16771142 | X34: 0.14268757 | Y34: 0.13268267 | Z34: 0.10989721 | AA34: 0.10629835 | AB34: 0.12424469 | AC34: 0.095292718 | AD34: 0.12347609 | AE34: 0.094705898 | AF34: 0.095621834 | AG34: 0.083886713 | AH34: 0.10123804 | AI34: 0.10070436 | AJ34: 0.10142287 | AK34: 0.089066354 | AL34: 0.069963255 | AM34: 0.055754416 | AN34: 0.063308392 | AO34: 0.061683252 | AP34: 0.070873018 | AQ34: 0.067773336 | AR34: 0.076152256 | AS34: 0.091857351 | AT34: 0.12842354 | AU34: 0.14775601 | AV34: 0.185 | AW34: 0.148 | AX34: 0.125 | AY34: 0.123 | AZ34: 0.114 | BA34: 0.111
A35: Barbados | B35: IMF data | AT35: 0.14285714 | AU35: 0.15972222 | AV35: 0.19330855 | AW35: 0.17712177 | AX35: 0.17712177 | AY35: 0.1697417 | AZ35: 0.16236162 | BA35: 0.11808118 | BB35: 45809 | BC35: https://www.imf.org/en/Publications/CR/Issues/2025/06/27/Barbados-Fifth-Reviews-Under-the-Extended-Arrangement-Under-the-Extended-Fund-Facility-and-568113 | BD35: Foreign currency
B36: World Bank data | C36: None
B37: Final | AT37: 0.14285714 | AU37: 0.15972222 | AV37: 0.19330855 | AW37: 0.17712177 | AX37: 0.17712177 | AY37: 0.1697417 | AZ37: 0.16236162 | BA37: 0.11808118
A38: Belize | B38: IMF data | AU38: 0.15546218 | AV38: 0.14345992 | AW38: 0.14345992 | AX38: 0.14345992 | AY38: 0.14345992 | AZ38: 0.14345992 | BA38: 0.1350211 | BC38: https://www.imf.org/en/Publications/CR/Issues/2025/09/15/Belize-2025-Article-IV-Consultation-Press-Release-Staff-Report-and-Statement-by-the-570371 | BD38: Foreign currency
B39: World Bank data | C39: 0.035620294 | D39: 0.076592157 | E39: 0.13309287 | F39: 0.1541148 | G39: 0.13466628 | H39: 0.32742146 | I39: 0.27859204 | J39: 0.23080462 | K39: 0.21208098 | L39: 0.1954073 | M39: 0.18176213 | N39: 0.14822735 | O39: 0.12553675 | P39: 0.12765762 | Q39: 0.17201632 | R39: 0.23916209 | S39: 0.24917766 | T39: 0.22009177 | U39: 0.23707341 | V39: 0.25817809 | W39: 0.39363417 | X39: 0.43366038 | Y39: 0.79225904 | Z39: 0.71746437 | AA39: 1.3616009 | AB39: 0.87830517 | AC39: 0.46010423 | AD39: 1.7422616 | AE39: 0.25295554 | AF39: 0.27490647 | AG39: 0.25791441 | AH39: 0.21593722 | AI39: 0.23060121 | AJ39: 0.24940518 | AK39: 0.1523866 | AL39: 0.15397255 | AM39: 0.16336258 | AN39: 0.15691243 | AO39: 0.14645798 | AP39: 0.16016528 | AQ39: 0.15005309 | AR39: 1.125082 | AS39: 0.11386455 | AT39: 0.15282591 | AU39: 0.1571352 | AV39: 0.1546584
B40: Final | C40: 0.035620294 | D40: 0.076592157 | E40: 0.13309287 | F40: 0.1541148 | G40: 0.13466628 | H40: 0.32742146 | I40: 0.27859204 | J40: 0.23080462 | K40: 0.21208098 | L40: 0.1954073 | M40: 0.18176213 | N40: 0.14822735 | O40: 0.12553675 | P40: 0.12765762 | Q40: 0.17201632 | R40: 0.23916209 | S40: 0.24917766 | T40: 0.22009177 | U40: 0.23707341 | V40: 0.25817809 | W40: 0.39363417 | X40: 0.43366038 | Y40: 0.79225904 | Z40: 0.71746437 | AA40: 0.712 | AB40: 0.87830517 | AC40: 0.46010423 | AD40: 0.467 | AE40: 0.25295554 | AF40: 0.27490647 | AG40: 0.25791441 | AH40: 0.21593722 | AI40: 0.23060121 | AJ40: 0.24940518 | AK40: 0.1523866 | AL40: 0.15397255 | AM40: 0.16336258 | AN40: 0.15691243 | AO40: 0.14645798 | AP40: 0.16016528 | AQ40: 0.15005309 | AR40: 0.144 | AS40: 0.11386455 | AT40: 0.15282591 | AU40: 0.1571352 | AV40: 0.14345992 | AW40: 0.14345992 | AX40: 0.14345992 | AY40: 0.14345992 | AZ40: 0.14345992 | BA40: 0.1350211 | BD40: 2004, 2007 and 2021 averaged to surrounding years as high payments due to way debt was restructured
...

Sheet 3. MAC DSF calcs
B1: 2022 | C1: 2023 | D1: 2024 | E1: =D1+1 -> 2025 | F1: =E1+1 -> 2026 | G1: =F1+1 -> 2027 | H1: =G1+1 -> 2028 | I1: =H1+1 -> 2029 | J1: =I1+1 -> 2030
A2: Albania | D2: =D3/D4 -> 0.10035842 | E2: =E3/E4 -> 0.14893617 | F2: =F3/F4 -> 0.066433566 | G2: =G3/G4 -> 0.1358885 | H2: =H3/H4 -> 0.12152778 | I2: =I3/I4 -> 0.053191489 | J2: =J3/J4 -> 0.09375
A3: Foreign currency debt service % GDP | D3: 2.8 | E3: 4.2 | F3: 1.9 | G3: 3.9 | H3: 3.5 | I3: 1.5 | J3: 2.7
A4: Goevrnment revenue % GDP | D4: 27.9 | E4: 28.2 | F4: 28.6 | G4: 28.7 | H4: 28.8 | I4: 28.2 | J4: 28.8
A6: Angola | D6: =D7/D8 -> 0.51807229 | E6: =E7/E8 -> 0.43243243 | F6: =F7/F8 -> 0.4375 | G6: =G7/G8 -> 0.61764706 | H6: =H7/H8 -> 0.56617647 | I6: =I7/I8 -> 0.49264706 | J6: =J7/J8 -> 0.51851852
A7: Foreign currency debt service % GDP | D7: 8.6 | E7: 6.4 | F7: 6.3 | G7: 8.4 | H7: 7.7 | I7: 6.7 | J7: 7
A8: Goevrnment revenue % GDP | D8: 16.6 | E8: 14.8 | F8: 14.4 | G8: 13.6 | H8: 13.6 | I8: 13.6 | J8: 13.5
A9: Public external debt service $ billion | E9: 4.3 | F9: 9.7 | G9: 9.7 | H9: 13.3 | I9: 12.6 | J9: 11.4
A10: Government revenue % GDP | E10: 14.8 | F10: 14.4 | G10: 13.6 | H10: 13.6 | I10: 13.6 | J10: 13.5
A11: GDP $ WEO | E11: 141.728 | F11: 152.354 | G11: 154.464 | H11: 159.152 | I11: 164.468 | J11: 171.593
A12: External debt service % revenue | E12: =E9/(E11*(E10/100)) -> 0.20499869 | F12: =F9/(F11*(F10/100)) -> 0.44213549 | G12: =G9/(G11*(G10/100)) -> 0.46174856 | H12: =H9/(H11*(H10/100)) -> 0.61446993 | I12: =I9/(I11*(I10/100)) -> 0.56331359 | J12: =J9/(J11*(J10/100)) -> 0.49212057
A14: Antigua & Barbuda | B14: =B15/B16 -> 0.10555556 | C14: =C15/C16 -> 0.1257485 | D14: =D15/D16 -> 0.14155251 | E14: =E15/E16 -> 0.071428571 | F14: =F15/F16 -> 0.096330275 | G14: =G15/G16 -> 0.11428571 | H14: =H15/H16 -> 0.12857143 | I14: =I15/I16 -> 0.12980769 | J14: =J15/J16 -> 0.13461538
A15: Foreign currency debt service % GDP | B15: 1.9 | C15: 2.1 | D15: 3.1 | E15: 1.6 | F15: 2.1 | G15: 2.4 | H15: 2.7 | I15: 2.7 | J15: 2.8
A16: Goevrnment revenue % GDP | B16: 18 | C16: 16.7 | D16: 21.9 | E16: 22.4 | F16: 21.8 | G16: 21 | H16: 21 | I16: 20.8 | J16: 20.8
A18: Argentina | D18: =D19/D20 -> 0.30357143 | E18: =E19/E20 -> 0.16352201 | F18: =F19/F20 -> 0.30322581 | G18: =G19/G20 -> 0.27848101 | H18: =H19/H20 -> 0.32298137 | I18: =I19/I20 -> 0.3902439 | J18: =J19/J20 -> 0.36585366
A19: Foreign currency debt service % GDP | D19: 5.1 | E19: 2.6 | F19: 4.7 | G19: 4.4 | H19: 5.2 | I19: 6.4 | J19: 6
A20: Government revenue % GDP | D20: 16.8 | E20: 15.9 | F20: 15.5 | G20: 15.8 | H20: 16.1 | I20: 16.4 | J20: 16.4
A21: Public external debt AMT $ billion | D21: 6.9 | E21: 6.9 | F21: 7.5 | G21: 7.5 | H21: 8 | I21: 7.8 | J21: 7.5
A22: Public external debt INT $ billion | D22: 4 | E22: 3.9 | F22: 4.4 | G22: 4.5 | H22: 4.7 | I22: 5 | J22: 5.1
A23: GDP $ billion WEO | D23: 637.234 | E23: 681.485 | F23: 688.378 | G23: 703.668 | H23: 746.843 | I23: 789.967 | J23: 833.284
A24: External debt service % government revenue | D24: =(D21+D22)/(D23*(D20/100)) -> 0.10181653 | E24: =(E21+E22)/(E23*(E20/100)) -> 0.099671348 | F24: =(F21+F22)/(F23*(F20/100)) -> 0.11152912 | G24: =(G21+G22)/(G23*(G20/100)) -> 0.10793352 | H24: =(H21+H22)/(H23*(H20/100)) -> 0.10562058 | I24: =(I21+I22)/(I23*(I20/100)) -> 0.098800052 | J24: =(J21+J22)/(J23*(J20/100)) -> 0.09220058
A26: Armenia | D26: =D27/D28 -> 0.1 | E26: =E27/E28 -> 0.1496063 | F26: =F27/F28 -> 0.09765625 | G26: =G27/G28 -> 0.08203125 | H26: =H27/H28 -> 0.081712062 | I26: =I27/I28 -> 0.14396887 | J26: =J27/J28 -> 0.097276265
A27: Foreign currency debt service % GDP | D27: 2.5 | E27: 3.8 | F27: 2.5 | G27: 2.1 | H27: 2.1 | I27: 3.7 | J27: 2.5
A28: Government revenue % GDP | D28: 25 | E28: 25.4 | F28: 25.6 | G28: 25.6 | H28: 25.7 | I28: 25.7 | J28: 25.7
A30: Aruba | D30: =D31/D32 -> 0.29795918 | E30: =E31/E32 -> 0.25531915 | F30: =F31/F32 -> 0.28947368 | G30: =G31/G32 -> 0.25 | H30: =H31/H32 -> 0.3245614 | I30: =I31/I32 -> 0.39823009 | J30: =J31/J32 -> 0.21875
A31: Foreign currency debt service % GDP | D31: 7.3 | E31: 6 | F31: 6.6 | G31: 5.7 | H31: 7.4 | I31: 9 | J31: 4.9
A32: Government revenue % GDP | D32: 24.5 | E32: 23.5 | F32: 22.8 | G32: 22.8 | H32: 22.8 | I32: 22.6 | J32: 22.4
A34: Azerbaijan | D34: =D35/D36 -> 0.012589928 | E34: =E35/E36 -> 0.019230769 | F34: =F35/F36 -> 0.017681729 | G34: =G35/G36 -> 0.025641026 | H34: =H35/H36 -> 0.034013605 | I34: =I35/I36 -> 0.042154567 | J34: =J35/J36 -> 0.053268765
A35: Foreign currency debt service % GDP | D35: 0.7 | E35: 1 | F35: 0.9 | G35: 1.2 | H35: 1.5 | I35: 1.8 | J35: 2.2
A36: Government revenue % GDP | D36: 55.6 | E36: 52 | F36: 50.9 | G36: 46.8 | H36: 44.1 | I36: 42.7 | J36: 41.3
A38: The Bahamas | B38: =B39/B40 -> 0.2985782 | C38: =C39/C40 -> 0.30275229 | D38: =D39/D40 -> 0.38862559 | E38: =E39/E40 -> 0.54545455 | F38: =F39/F40 -> 0.28828829 | G38: =G39/G40 -> 0.29279279 | H38: =H39/H40 -> 0.29279279 | I38: =I39/I40 -> 0.28378378 | J38: =J39/J40 -> 0.28828829
A39: Foreign currency debt service % GDP | B39: 6.3 | C39: 6.6 | D39: 8.2 | E39: 12 | F39: 6.4 | G39: 6.5 | H39: 6.5 | I39: 6.3 | J39: 6.4
A40: Government revenue % GDP | B40: 21.1 | C40: 21.8 | D40: 21.1 | E40: 22 | F40: 22.2 | G40: 22.2 | H40: 22.2 | I40: 22.2 | J40: 22.2
A42: Barbados | C42: =C43/C44 -> 0.14285714 | D42: =D43/D44 -> 0.15972222 | E42: =E43/E44 -> 0.14179104 | F42: =F43/F44 -> 0.12280702 | G42: =G43/G44 -> 0.12781955 | H42: =H43/H44 -> 0.13962264 | I42: =I43/I44 -> 0.14015152 | J42: =J43/J44 -> 0.14828897
A43: Foreign currency debt service % GDP | C43: 3.8 | D43: 4.6 | E43: 3.8 | F43: 3.5 | G43: 3.4 | H43: 3.7 | I43: 3.7 | J43: 3.9
A44: Government revenue % GDP | C44: 26.6 | D44: 28.8 | E44: 26.8 | F44: 28.5 | G44: 26.6 | H44: 26.5 | I44: 26.4 | J44: 26.3
A46: Belize | D46: =D47/D48 -> 0.15546218 | E46: =E47/E48 -> 0.14345992 | F46: =F47/F48 -> 0.14345992 | G46: =G47/G48 -> 0.14345992 | H46: =H47/H48 -> 0.14345992 | I46: =I47/I48 -> 0.14345992 | J46: =J47/J48 -> 0.1350211
A47: Foreign currency debt service % GDP | D47: 3.7 | E47: 3.4 | F47: 3.4 | G47: 3.4 | H47: 3.4 | I47: 3.4 | J47: 3.2
A48: Government revenue % GDP | D48: 23.8 | E48: 23.7 | F48: 23.7 | G48: 23.7 | H48: 23.7 | I48: 23.7 | J48: 23.7
A50: Bolivia | D50: =D51/D52 -> 0.10915493 | E50: =E51/E52 -> 0.11290323 | F50: =F51/F52 -> 0.11570248 | G50: =G51/G52 -> 0.096638655 | H50: =H51/H52 -> 0.097046414 | I50: =I51/I52 -> 0.063559322 | J50: =J51/J52 -> 0.055319149
...

Sheet 4. IMF debt distress
A1: Assessment at end of the year | B1: 2007 | C1: 2008 | D1: =C1+1 -> 2009 | E1: =D1+1 -> 2010 | F1: =E1+1 -> 2011 | G1: =F1+1 -> 2012 | H1: =G1+1 -> 2013 | I1: =H1+1 -> 2014 | J1: =I1+1 -> 2015 | K1: =J1+1 -> 2016 | L1: 2017 | M1: 2018 | N1: 2019 | O1: 2020 | P1: 2021 | Q1: 2022 | R1: 2023 | S1: 2024 | T1: 2025 | U1: 2026
A2: Afghanistan | B2: High | C2: High | D2: High | E2: High | F2: High | G2: High | H2: High | I2: High | J2: High | K2: High | L2: High | M2: High | N2: High | O2: High | P2: High | Q2: High | R2: High | S2: High | T2: High | U2: High
A3: Bangladesh | B3: Low | C3: Low | D3: Low | E3: Low | F3: Low | G3: Low | H3: Low | I3: Low | J3: Low | K3: Low | L3: Low | M3: Low | N3: Low | O3: Low | P3: Low | Q3: Low | R3: Low | S3: Low | T3: Moderate | U3: Moderate
A4: Benin | B4: Moderate | C4: Moderate | D4: Moderate | E4: Moderate | F4: Low | G4: Low | H4: Low | I4: Low | J4: Low | K4: Low | L4: Moderate | M4: Moderate | N4: Moderate | O4: Moderate | P4: Moderate | Q4: Moderate | R4: Moderate | S4: Moderate | T4: Moderate | U4: Moderate
A5: Bhutan | B5: Moderate | C5: Moderate | D5: Moderate | E5: Moderate | F5: Moderate | G5: Moderate | H5: Moderate | I5: Moderate | J5: Moderate | K5: Moderate | L5: Moderate | M5: Moderate | N5: Moderate | O5: Moderate | P5: Moderate | Q5: Moderate | R5: Moderate | S5: Moderate | T5: Moderate | U5: Moderate
A6: Burkina Faso | B6: Moderate | C6: High | D6: High | E6: High | F6: High | G6: Moderate | H6: Moderate | I6: Moderate | J6: Moderate | K6: Moderate | L6: Moderate | M6: Moderate | N6: Moderate | O6: Moderate | P6: Moderate | Q6: Moderate | R6: Moderate | S6: Moderate | T6: Moderate | U6: Moderate
A7: Burundi | B7: High | C7: In debt distress | D7: High | E7: High | F7: High | G7: High | H7: High | I7: High | J7: High | K7: High | L7: High | M7: High | N7: High | O7: High | P7: High | Q7: High | R7: High | S7: High | T7: High | U7: High
A8: Cambodia | B8: Moderate | C8: Moderate | D8: Moderate | E8: Moderate | F8: Moderate | G8: Low | H8: Low | I8: Low | J8: Low | K8: Low | L8: Low | M8: Low | N8: Low | O8: Low | P8: Low | Q8: Low | R8: Low | S8: Low | T8: Low | U8: Low
A9: Cameroon | B9: Low | C9: Low | D9: Low | E9: Low | F9: Low | G9: Low | H9: Low | I9: Moderate | J9: High | K9: High | L9: High | M9: High | N9: High | O9: High | P9: High | Q9: High | R9: High | S9: High | T9: High | U9: High
A10: Cabo Verde | B10: Low | C10: Low | D10: Low | E10: Low | F10: Low | G10: Low | H10: Low | I10: Moderate | J10: Moderate | K10: High | L10: High | M10: High | N10: High | O10: High | P10: High | Q10: Moderate | R10: Moderate | S10: Moderate | T10: Moderate | U10: Moderate
A11: CAR | B11: High | C11: High | D11: Moderate | E11: Moderate | F11: Moderate | G11: Moderate | H11: Moderate | I11: High | J11: High | K11: High | L11: High | M11: High | N11: High | O11: High | P11: High | Q11: High | R11: High | S11: High | T11: High | U11: High
A12: Chad | B12: High | C12: High | D12: Moderate | E12: Moderate | F12: Moderate | G12: Moderate | H12: High | I12: High | J12: High | K12: High | L12: In debt distress | M12: High | N12: High | O12: High | P12: In debt distress | Q12: In debt distress | R12: High | S12: High | T12: High | U12: High
A13: Comoros | B13: In debt distress | C13: In debt distress | D13: In debt distress | E13: In debt distress | F13: In debt distress | G13: In debt distress | H13: High | I13: High | J13: Moderate | K13: Moderate | L13: Moderate | M13: Moderate | N13: Moderate | O13: Moderate | P13: High | Q13: High | R13: High | S13: High | T13: High | U13: High
... A25: Guinea-Bissau | B25: In debt distress | C25: In debt distress | D25: In debt distress | E25: High | F25: Moderate | G25: Moderate | H25: Moderate | I25: Moderate | J25: Moderate | K25: Moderate | L25: Moderate | M25: Moderate | N25: Moderate | O25: Moderate | P25: High | Q25: High | R25: High | S25: High | T25: High | U25: High
A26: Guyana | E26: Moderate | F26: Moderate | G26: Moderate | H26: Moderate | I26: Moderate | J26: Moderate | K26: Moderate | L26: Moderate | M26: Moderate | N26: Moderate | O26: Moderate | P26: Moderate | Q26: Moderate | R26: Moderate | S26: Moderate | T26: Low | U26: Low
A27: Haiti | B27: High | C27: High | D27: High | E27: High | F27: High | G27: High | H27: High | I27: High | J27: Moderate | K27: Moderate | L27: High | M27: High | N27: High | O27: High | P27: High | Q27: High | R27: High | S27: High | T27: High | U27: High
A28: Honduras | B28: Moderate | C28: Low | D28: Low | E28: Low | F28: Low | G28: Low | H28: Low | I28: Moderate | J28: Moderate | K28: Moderate | L28: Moderate | M28: Moderate | N28: Low | O28: Low | P28: Low | Q28: Low | R28: Low | S28: Low | T28: Low | U28: Low
A29: Kenya | B29: Low | C29: Low | D29: Low | E29: Low | F29: Low | G29: Low | H29: Low | I29: Low | J29: Low | K29: Low | L29: Low | M29: Moderate | N29: Moderate | O29: High | P29: High | Q29: High | R29: High | S29: High | T29: High | U29: High
A30: Kiribati | F30: High | G30: High | H30: High | I30: High | J30: High | K30: High | L30: High | M30: High | N30: High | O30: High | P30: High | Q30: High | R30: High | S30: High | T30: High | U30: High
A31: Kyrgyz Rep | B31: Moderate | C31: Moderate | D31: Moderate | E31: Moderate | F31: Moderate | G31: Moderate | H31: Moderate | I31: Moderate | J31: Moderate | K31: Moderate | L31: Moderate | M31: Moderate | N31: Moderate | O31: Moderate | P31: Moderate | Q31: Moderate | R31: Moderate | S31: Moderate | T31: Moderate | U31: Moderate
A32: Lao PDR | B32: High | C32: High | D32: High | E32: High | F32: High | G32: Moderate | H32: Moderate | I32: Moderate | J32: Moderate | K32: Moderate | L32: High | M32: High | N32: High | O32: High | P32: High | Q32: High | R32: In debt distress | S32: In debt distress | T32: In debt distress | U32: In debt distress
A33: Lesotho | B33: Moderate | C33: Moderate | D33: Moderate | E33: Moderate | F33: Moderate | G33: Moderate | H33: Moderate | I33: Moderate | J33: Moderate | K33: Moderate | L33: Moderate | M33: Low | N33: Moderate | O33: Moderate | P33: Moderate | Q33: Moderate | R33: Moderate | S33: Moderate | T33: Moderate | U33: Moderate
